BEGIN:VCALENDAR
VERSION:2.0
PRODID:-//Squarespace Inc/Squarespace 6//v6//EN
BEGIN:VEVENT
UID:5c6e2950eb39315d8de1533c@squarespace.com
DTSTAMP:20190222T002927Z
DTSTART:20190228T070000Z
DTEND:20190228T090000Z
SUMMARY:Opening Night\, Three Perspectives 
END:VEVENT
END:VCALENDAR
