BEGIN:VCALENDAR
VERSION:2.0
PRODID:-//Squarespace Inc/Squarespace 6//v6//EN
BEGIN:VEVENT
UID:5c5b7896eef1a1953a5e3376@squarespace.com
DTSTAMP:20190207T001732Z
DTSTART:20190615T003000Z
DTEND:20190615T013000Z
SUMMARY:ADFAS presents: White Gums &amp\; Ramoxes\, the ceramics of Arthur 
 &amp\; Merric Boyd with Grace Cochrane
GEO:-31.088454;150.935644
LOCATION:ADFAS\, Fitzroy Street\, Tamworth\, Australia
END:VEVENT
END:VCALENDAR
