BEGIN:VCALENDAR
VERSION:2.0
PRODID:-//Squarespace Inc/Squarespace 6//v6//EN
BEGIN:VEVENT
UID:5c5b80a215fcc0cc3924bdcc@squarespace.com
DTSTAMP:20190207T005233Z
DTSTART:20191108T064500Z
DTEND:20191108T090000Z
SUMMARY:ADFAS presents Freedom of Angels – Sculpture in a Century of Upheav
 al\,  with Geoffrey Edwards
GEO:-31.088454;150.935644
LOCATION:ADFAS\, Fitzroy Street\, Tamworth\, Australia
END:VEVENT
END:VCALENDAR
