BEGIN:VCALENDAR
VERSION:2.0
PRODID:-//Squarespace Inc/Squarespace 6//v6//EN
BEGIN:VEVENT
UID:5c5b800b0d9297a1746fe33d@squarespace.com
DTSTAMP:20190207T004938Z
DTSTART:20191011T064500Z
DTEND:20191011T090000Z
SUMMARY:ADFAS presents Venice: Canaletto and his rivals\, with Anthony Russ
 ell
GEO:-31.088454;150.935644
LOCATION:ADFAS\, Fitzroy Street\, Tamworth\, Australia
END:VEVENT
END:VCALENDAR
