BEGIN:VCALENDAR
VERSION:2.0
PRODID:-//Squarespace Inc/Squarespace 6//v6//EN
BEGIN:VEVENT
UID:5c5b7d43085229ad86f63c13@squarespace.com
DTSTAMP:20190207T004707Z
DTSTART:20190913T074500Z
DTEND:20190913T100000Z
SUMMARY:ADFAS presents Cities of Memory\, Cities of Prophecy with Colin Dav
 is
GEO:-31.088454;150.935644
LOCATION:ADFAS\, Fitzroy Street\, Tamworth\, Australia
END:VEVENT
END:VCALENDAR
