BEGIN:VCALENDAR
VERSION:2.0
PRODID:-//Squarespace Inc/Squarespace 6//v6//EN
BEGIN:VEVENT
UID:5c5b7982ee6eb05bcb43f025@squarespace.com
DTSTAMP:20190207T003515Z
DTSTART:20190816T074500Z
DTEND:20190816T100000Z
SUMMARY:ADFAS presents: From Downton to Gatsby\, Jewellery and Fashion 1890 
 – 1929Andrew Prince
GEO:-31.088454;150.935644
LOCATION:ADFAS\, Fitzroy Street\, Tamworth\, Australia
END:VEVENT
END:VCALENDAR
