BEGIN:VCALENDAR
VERSION:2.0
PRODID:-//Squarespace Inc/Squarespace 6//v6//EN
BEGIN:VEVENT
UID:5c5b7927fa0d606d797614b7@squarespace.com
DTSTAMP:20190207T001914Z
DTSTART:20190712T074500Z
DTEND:20190712T100000Z
SUMMARY:ADFAS presents: Heaven’s Embroidered Cloth – the History and Develo
 pment of Imperial Chinese Silk with David Rosier
GEO:-31.088454;150.935644
LOCATION:ADFAS\, Fitzroy Street\, Tamworth\, Australia
END:VEVENT
END:VCALENDAR
