BEGIN:VCALENDAR
VERSION:2.0
PRODID:-//Squarespace Inc/Squarespace 6//v6//EN
BEGIN:VEVENT
UID:5c5b7823fa0d606d7976090c@squarespace.com
DTSTAMP:20190207T001518Z
DTSTART:20190614T074500Z
DTEND:20190614T100000Z
SUMMARY:ADFAS presents: Contemporary Australian Metalwork with Grace Cochra
 ne
GEO:-31.088454;150.935644
LOCATION:ADFAS\, Fitzroy Street\, Tamworth\, Australia
END:VEVENT
END:VCALENDAR
