BEGIN:VCALENDAR
VERSION:2.0
PRODID:-//Squarespace Inc/Squarespace 6//v6//EN
BEGIN:VEVENT
UID:5c5b77966e9a7f7629c446cf@squarespace.com
DTSTAMP:20190207T001323Z
DTSTART:20190510T074500Z
DTEND:20190510T100000Z
SUMMARY:ADFAS presents From Civil War to Great War: American Art and Nation
 al Identity with Bernard Allan
GEO:-31.088454;150.935644
LOCATION:ADFAS\, Fitzroy Street\, Tamworth\, Australia
END:VEVENT
END:VCALENDAR
