BEGIN:VCALENDAR
VERSION:2.0
PRODID:-//Squarespace Inc/Squarespace 6//v6//EN
BEGIN:VEVENT
UID:5c5b752de2c483b17bf55a30@squarespace.com
DTSTAMP:20190207T001102Z
DTSTART:20190405T064500Z
DTEND:20190405T090000Z
SUMMARY:ADFAS presents: The Printed Map\,  its story as an art form. With R
 obert Clancy
GEO:-31.088454;150.935644
LOCATION:ADFAS\, Fitzroy Street\, Tamworth\, Australia
END:VEVENT
END:VCALENDAR
