BEGIN:VCALENDAR
VERSION:2.0
PRODID:-//Squarespace Inc/Squarespace 6//v6//EN
BEGIN:VEVENT
UID:5c5b6fd2e79c70a854fc0b12@squarespace.com
DTSTAMP:20190207T000045Z
DTSTART:20190308T064500Z
DTEND:20190308T090000Z
SUMMARY:ADFAS presents: Following in the footsteps of Delacroix in Africa&n
 bsp\;with Jacqueline Cockburn
GEO:-31.088454;150.935644
LOCATION:ADFAS\, Fitzroy Street\, Tamworth\, Australia
END:VEVENT
END:VCALENDAR
