BEGIN:VCALENDAR
VERSION:2.0
PRODID:-//Squarespace Inc/Squarespace 6//v6//EN
BEGIN:VEVENT
UID:59ba24f9bce176cf268bd39e@squarespace.com
DTSTAMP:20170927T074944Z
DTSTART:20171014T070000Z
DTEND:20171112T030000Z
SUMMARY:Hide and Seek
END:VEVENT
END:VCALENDAR
