BEGIN:VCALENDAR
VERSION:2.0
PRODID:-//Squarespace Inc/Squarespace 6//v6//EN
BEGIN:VEVENT
UID:5b9b2e501ae6cf0d5aba0337@squarespace.com
DTSTAMP:20180914T040635Z
DTSTART:20181006T233000Z
DTEND:20181007T013000Z
SUMMARY:Kokedama Making Workshop 
END:VEVENT
END:VCALENDAR
